BEGIN:VCALENDAR
VERSION:2.0
PRODID:-//ChamberMaster//Event Calendar 2.0//EN
METHOD:PUBLISH
X-PUBLISHED-TTL:P3D
REFRESH-INTERVAL:P3D
CALSCALE:GREGORIAN
BEGIN:VEVENT
DTSTART:20140827T170000Z
DTEND:20140827T190000Z
X-MICROSOFT-CDO-ALLDAYEVENT:FALSE
SUMMARY:Live\, Guided Demonstrations: Newsletters\, Annoucement and More
DESCRIPTION:Murcon Free Seminar:  Live\, Guided Demonstrations:  Newsletters\,\n\nAnnouncements\, and More
X-ALT-DESC;FMTTYPE=text/html:<p>Murcon Free Seminar:&nbsp\; Live\, Guided Demonstrations:&nbsp\; Newsletters\,</p>\n\n<p>Announcements\, and More</p>\n
LOCATION:Chamber Office
UID:e.363.5441
SEQUENCE:3
DTSTAMP:20260421T215138Z
URL:https://barrowcm.365dtm.com/events/details/live-guided-demonstrations-newsletters-annoucement-and-more-08-27-2014-5441
END:VEVENT

END:VCALENDAR
