BEGIN:VCALENDAR
VERSION:2.0
PRODID:-//ChamberMaster//Event Calendar 2.0//EN
METHOD:PUBLISH
X-PUBLISHED-TTL:P3D
REFRESH-INTERVAL:P3D
CALSCALE:GREGORIAN
BEGIN:VEVENT
DTSTART:20140515T153000Z
DTEND:20140515T170000Z
X-MICROSOFT-CDO-ALLDAYEVENT:FALSE
SUMMARY:Lunch and Learn
DESCRIPTION:Build Your Marketing Toolkit: A framework for small businesses and organizations.\n\n\n\nMany small businesses and organizations find themselves seeking the right strategies to make their marketing efforts as effective as possible.  But with so many different marketing activities that they could focus on\, they often miss some of the important marketing concepts that will help them understand why those activities are so important.  This presentation is designed to uncover some of those core concepts and show that a little bit of marketing knowledge can go a long way.
X-ALT-DESC;FMTTYPE=text/html:<strong>Build Your Marketing Toolkit: A framework for small businesses and organizations.</strong><br />\n<br />\nMany small businesses and organizations find themselves seeking the right strategies to make their marketing efforts as effective as possible.&nbsp\; But with so many different marketing activities that they could focus on\, they often miss some of the important marketing concepts that will help them understand why those activities are so important.&nbsp\; This presentation is designed to uncover some of those core concepts and show that a little bit of marketing knowledge can go a long way.&nbsp\;&nbsp\;
LOCATION:Chamber Office
UID:e.363.5423
SEQUENCE:3
DTSTAMP:20260422T015507Z
URL:https://barrowcm.365dtm.com/events/details/lunch-and-learn-05-15-2014-5423
END:VEVENT

END:VCALENDAR
