BEGIN:VCALENDAR
VERSION:2.0
PRODID:-//ChamberMaster//Event Calendar 2.0//EN
METHOD:PUBLISH
X-PUBLISHED-TTL:P3D
REFRESH-INTERVAL:P3D
CALSCALE:GREGORIAN
BEGIN:VEVENT
DTSTART;VALUE=DATE:20110524
DTEND;VALUE=DATE:20110525
TRANSP:TRANSPARENT
X-MICROSOFT-CDO-ALLDAYEVENT:TRUE
SUMMARY:Lunch and Learn -
DESCRIPTION:Lunch and Learn -  10 tips for IPhone and Blackberry
X-ALT-DESC;FMTTYPE=text/html:Lunch and Learn -&nbsp\; 10 tips for IPhone and Blackberry
LOCATION:Chamber Office #6 Porter Street\, Winder
UID:e.363.4025
SEQUENCE:3
DTSTAMP:20260424T104723Z
URL:https://barrowcm.365dtm.com/events/details/lunch-and-learn-05-24-2011-4025
END:VEVENT

END:VCALENDAR
