BEGIN:VCALENDAR
VERSION:2.0
PRODID:-//ChamberMaster//Event Calendar 2.0//EN
METHOD:PUBLISH
X-PUBLISHED-TTL:P3D
REFRESH-INTERVAL:P3D
CALSCALE:GREGORIAN
BEGIN:VEVENT
DTSTART:20130619T150000Z
DTEND:20130619T170000Z
X-MICROSOFT-CDO-ALLDAYEVENT:FALSE
SUMMARY:Lunch and Learn
DESCRIPTION:Come Grow your Business\n\n\n\nHow to build your audience through list\n\nWhat types of contenct attract the most attention\n\nHow to create campaigns and calls-to-action people act on\n\nWhat types of reporting and analytics matter to your business\n\nHow to integrate it all into one simple strategy
X-ALT-DESC;FMTTYPE=text/html:Come Grow your Business<br />\n<br />\nHow to build your audience through list<br />\nWhat types of contenct attract the most attention<br />\nHow to create campaigns and calls-to-action people act on<br />\nWhat types of reporting and analytics matter to your business<br />\nHow to integrate it all into one simple strategy
LOCATION:Chamber Office
UID:e.363.4892
SEQUENCE:3
DTSTAMP:20260422T220324Z
URL:https://barrowcm.365dtm.com/events/details/lunch-and-learn-06-19-2013-4892
END:VEVENT

END:VCALENDAR
