BEGIN:VCALENDAR
VERSION:2.0
PRODID:-//ChamberMaster//Event Calendar 2.0//EN
METHOD:PUBLISH
X-PUBLISHED-TTL:P3D
REFRESH-INTERVAL:P3D
CALSCALE:GREGORIAN
BEGIN:VEVENT
DTSTART:20160622T153000Z
DTEND:20160622T170000Z
X-MICROSOFT-CDO-ALLDAYEVENT:FALSE
SUMMARY:Lunch and Learn
DESCRIPTION:Getting Started with Email Marketing: A Live Demonstration."\n\nwith Constant Contact\, Tom Murphy
X-ALT-DESC;FMTTYPE=text/html:<span style="font-family:arial\,sans-serif\;"><span style="font-size:12.0pt\;">Getting Started with Email Marketing: A Live Demonstration.&rdquo\;</span></span><br />\nwith Constant Contact\, Tom Murphy
LOCATION:Chamber Office
UID:e.363.5879
SEQUENCE:3
DTSTAMP:20260420T112459Z
URL:https://barrowcm.365dtm.com/events/details/lunch-and-learn-06-22-2016-5879
END:VEVENT

END:VCALENDAR
