BEGIN:VCALENDAR
VERSION:2.0
PRODID:-//ChamberMaster//Event Calendar 2.0//EN
METHOD:PUBLISH
X-PUBLISHED-TTL:P3D
REFRESH-INTERVAL:P3D
CALSCALE:GREGORIAN
BEGIN:VEVENT
DTSTART:20090811T150000Z
DTEND:20090811T170000Z
X-MICROSOFT-CDO-ALLDAYEVENT:FALSE
SUMMARY:Lunch and Learn
DESCRIPTION:Lanier Tech Making Exel work for your BusinessSpeaker Rushia Cooper will up date participants on creating your owntemplates\, publishing web pages\, sharing files\, create and editing spreadsheets\,link data across worksheets & workbooks\, keeping workbooks secure and Tips &Tricks for Using Microsoft Excel.
X-ALT-DESC;FMTTYPE=text/html:<div>Lanier Tech Making Exel work for your Business</div><div>Speaker Rushia Cooper will up date participants on creating your own</div><div>templates\, publishing web pages\, sharing files\, create and editing spreadsheets\,</div><div>link data across worksheets &amp\; workbooks\, keeping workbooks secure and Tips &amp\;</div><div>Tricks for Using Microsoft Excel.</div><div>&nbsp\;</div>
LOCATION:Lanier Tech
UID:e.363.2702
SEQUENCE:3
DTSTAMP:20260425T185155Z
URL:https://barrowcm.365dtm.com/events/details/lunch-and-learn-08-11-2009-2702
END:VEVENT

END:VCALENDAR
