BEGIN:VCALENDAR
VERSION:2.0
PRODID:-//ChamberMaster//Event Calendar 2.0//EN
METHOD:PUBLISH
X-PUBLISHED-TTL:P3D
REFRESH-INTERVAL:P3D
CALSCALE:GREGORIAN
BEGIN:VEVENT
DTSTART:20170309T164500Z
DTEND:20170309T183000Z
X-MICROSOFT-CDO-ALLDAYEVENT:FALSE
SUMMARY:Lunch and Learn
DESCRIPTION:The Power of the Inbox: Tips and Tricks for Successful Email Marketing\n\n \n\nWhat is the first impression you give when someone sees you in their email inbox? And when they see you there\, what do they do?\n\n \n\nThis powerful seminar takes you step-by-step through the keys to effective email marketing:\n\n  What it really is (and isn't)\n\n  What it can do for your business\n\n  And the five easy steps you must take to harness the power of the inbox!\n\no Grow a healthy list\n\no Create great content\n\no Customize a beautiful\, mobile-friendly template that matches your brand\n\no How to get your emails opened\n\no Tracking your results\n\n \n\nFrom revealing why regular email doesn't work\, to insider tips and techniques like automated list building tools and the design elements that work (and those that don't!)\, this seminar will give you the keys to the most effective marketing you can do: email marketing. The last part of the presentation will be a short demonstration of the Constant Contact Email Marketing system. Join us!
X-ALT-DESC;FMTTYPE=text/html:The Power of the Inbox: Tips and Tricks for Successful Email Marketing<br />\n&nbsp\;<br />\nWhat is the first impression you give when someone sees <strong><u>you</u></strong> in their email inbox? And when they see you there\, what do they <strong><u>do</u></strong>?<br />\n&nbsp\;<br />\nThis powerful seminar takes you step-by-step through the keys to effective email marketing:<br />\n<span style="font-family:symbol\;">&middot\;</span> What it really is (and isn&rsquo\;t)<br />\n<span style="font-family:symbol\;">&middot\;</span> What it can do for your business<br />\n<span style="font-family:symbol\;">&middot\;</span> And the five easy steps you must take to harness the power of the inbox!<br />\no Grow a healthy list<br />\no Create great content<br />\no Customize a beautiful\, mobile-friendly template that matches your brand<br />\no How to get your emails opened<br />\no Tracking your results<br />\n&nbsp\;<br />\nFrom revealing why regular email doesn&#39\;t work\, to insider tips and techniques like automated list building tools and the design elements that work (and those that don&#39\;t!)\, this seminar will give you the keys to the <strong><u>most effective</u></strong> marketing you can do: email marketing. The last part of the presentation will be a short demonstration of the Constant Contact Email Marketing system. Join us!<br />\n&nbsp\;
LOCATION:Chamber Office #6 Porter Street\, Winder
UID:e.363.6920
SEQUENCE:3
DTSTAMP:20260419T213453Z
URL:https://barrowcm.365dtm.com/events/details/lunch-and-learn-6920
END:VEVENT

END:VCALENDAR
