BEGIN:VCALENDAR
VERSION:2.0
PRODID:-//ChamberMaster//Event Calendar 2.0//EN
METHOD:PUBLISH
X-PUBLISHED-TTL:P3D
REFRESH-INTERVAL:P3D
CALSCALE:GREGORIAN
BEGIN:VEVENT
DTSTART:20100615T150000Z
DTEND:20100615T170000Z
X-MICROSOFT-CDO-ALLDAYEVENT:FALSE
SUMMARY:Lunch and Learn - ''Big Bang for your marketing Buck: E-mail marketing
DESCRIPTION:Tom Murphy will present the workshop \n"Big Bang for your Marketing Bucks: Email Marketing"
X-ALT-DESC;FMTTYPE=text/html:<div>Tom Murphy will present the workshop <br />&quot\;Big Bang for your Marketing Bucks: Email Marketing&quot\;</div>
LOCATION:Chamber Office #6 Porter Street\, Winder
UID:e.363.3539
SEQUENCE:3
DTSTAMP:20260425T033445Z
URL:https://barrowcm.365dtm.com/events/details/lunch-and-learn-big-bang-for-your-marketing-buck-e-mail-marketing-06-15-2010-3539
END:VEVENT

END:VCALENDAR
