BEGIN:VCALENDAR
VERSION:2.0
PRODID:-//ChamberMaster//Event Calendar 2.0//EN
METHOD:PUBLISH
X-PUBLISHED-TTL:P3D
REFRESH-INTERVAL:P3D
CALSCALE:GREGORIAN
BEGIN:VEVENT
DTSTART:20090324T150000Z
DTEND:20090324T170000Z
X-MICROSOFT-CDO-ALLDAYEVENT:FALSE
SUMMARY:Lunch and Learn ''Empowerment Mind\, Body and Soul Seminar
DESCRIPTION:Susan Litchford of Arbone International\, Dr Charles Burrage of 2Good Health and Jody Hice of Bethlehem Baptist Church will turn your day around by the way your mind thinks\, what  you feed your body the inner-soul of what and who you are. Don't miss this opportunity to not only fill your cup 1/2 full but empower yourself to have it run over the brim! If you can not come send someone from your office to bring back this opportunity for CHANGE. A better you and a better office and a better  way of life. Space is limited\, call Missy at the Chamber office for reservations. 770-867-9444
X-ALT-DESC;FMTTYPE=text/html:<div>Susan Litchford of Arbone International\, Dr Charles Burrage of 2Good Health and Jody Hice of Bethlehem Baptist Church will turn your day around by the way your mind thinks\, what&nbsp\; you feed your body the inner-soul of what and who you are. Don&rsquo\;t miss this opportunity to not only fill your cup 1/2 full but empower yourself to have it run over the brim! If you can not&nbsp\;come send someone from your office to bring back this opportunity for CHANGE. A better you and a better office and a better&nbsp\; way of life. Space is limited\, call Missy at the Chamber office for reservations. 770-867-9444</div>
LOCATION:The Chamber office
UID:e.363.2661
SEQUENCE:3
DTSTAMP:20260426T024729Z
URL:https://barrowcm.365dtm.com/events/details/lunch-and-learn-empowerment-mind-body-and-soul-seminar-03-24-2009-2661
END:VEVENT

END:VCALENDAR
