BEGIN:VCALENDAR
VERSION:2.0
PRODID:-//ChamberMaster//Event Calendar 2.0//EN
METHOD:PUBLISH
X-PUBLISHED-TTL:P3D
REFRESH-INTERVAL:P3D
CALSCALE:GREGORIAN
BEGIN:VEVENT
DTSTART:20111020T150000Z
DTEND:20111020T170000Z
X-MICROSOFT-CDO-ALLDAYEVENT:FALSE
SUMMARY:Lunch and Learn - "Focus on Your Business"
DESCRIPTION:Guest speaker will be Tom Murphy with MURCON and Matthew Bradley with Bradley Electronics. The topic will be "Focus on Your Business" Microsoft Office Tips and Tricks for Windows 7 and Office 2010. A free Office Professional 2010 will be given free to a lucky workshop participant.
X-ALT-DESC;FMTTYPE=text/html:<span style="font-size: 12pt"><span style="color: black"><span style="font-family: calibri\, sans-serif">Guest speaker will be Tom Murphy with MURCON and Matthew Bradley with Bradley Electronics. The topic will be &ldquo\;Focus on Your Business&rdquo\; Microsoft Office Tips and Tricks for Windows 7 and Office 2010. A free Office Professional 2010 will be given free to a lucky workshop participant. </span></span></span>
LOCATION:Chamber Office #6 Porter Street Winder
UID:e.363.4088
SEQUENCE:3
DTSTAMP:20260424T040432Z
URL:https://barrowcm.365dtm.com/events/details/lunch-and-learn-focus-on-your-business-10-20-2011-4088
END:VEVENT

END:VCALENDAR
