BEGIN:VCALENDAR
VERSION:2.0
PRODID:-//ChamberMaster//Event Calendar 2.0//EN
METHOD:PUBLISH
X-PUBLISHED-TTL:P3D
REFRESH-INTERVAL:P3D
CALSCALE:GREGORIAN
BEGIN:VEVENT
DTSTART:20120508T150000Z
DTEND:20120508T170000Z
X-MICROSOFT-CDO-ALLDAYEVENT:FALSE
SUMMARY:Lunch and Learn - Get Ready for the NEW Facebook Timelines
DESCRIPTION:Lunch and Learn\n\nGet Ready for the NEW Facebook Timelines \n\nwith Tom Murphy
X-ALT-DESC;FMTTYPE=text/html:Lunch and Learn<br />\n<span style="font-size: 10pt"><span style="font-family: tahoma\, sans-serif">Get Ready for the NEW Facebook Timelines&nbsp\;</span></span><br />\nwith Tom Murphy
LOCATION:Chamber Office #6 Porter Street
UID:e.363.4233
SEQUENCE:3
DTSTAMP:20260423T181118Z
URL:https://barrowcm.365dtm.com/events/details/lunch-and-learn-get-ready-for-the-new-facebook-timelines-05-08-2012-4233
END:VEVENT

END:VCALENDAR
