BEGIN:VCALENDAR
VERSION:2.0
PRODID:-//ChamberMaster//Event Calendar 2.0//EN
METHOD:PUBLISH
X-PUBLISHED-TTL:P3D
REFRESH-INTERVAL:P3D
CALSCALE:GREGORIAN
BEGIN:VEVENT
DTSTART:20131119T163000Z
DTEND:20131119T180000Z
X-MICROSOFT-CDO-ALLDAYEVENT:FALSE
SUMMARY:Lunch and Learn - LinkedIn
DESCRIPTION:Learn all about LinkedIn
X-ALT-DESC;FMTTYPE=text/html:Learn all about LinkedIn
LOCATION:Chamber Office
UID:e.363.5153
SEQUENCE:3
DTSTAMP:20260422T111803Z
URL:https://barrowcm.365dtm.com/events/details/lunch-and-learn-linkedin-11-19-2013-5153
END:VEVENT

END:VCALENDAR
