BEGIN:VCALENDAR
VERSION:2.0
PRODID:-//ChamberMaster//Event Calendar 2.0//EN
METHOD:PUBLISH
X-PUBLISHED-TTL:P3D
REFRESH-INTERVAL:P3D
CALSCALE:GREGORIAN
BEGIN:VEVENT
DTSTART:20090519T150000Z
DTEND:20090519T170000Z
X-MICROSOFT-CDO-ALLDAYEVENT:FALSE
SUMMARY:Lunch and Learn Seminar
DESCRIPTION:Carol McDonnell with SBDC topic "Surviving Tips for tough Times\, 10 mistakes\nbusiness make in tough times"
X-ALT-DESC;FMTTYPE=text/html:Carol McDonnell with SBDC topic "Surviving Tips for tough Times\, 10 mistakes\nbusiness make in tough times"
LOCATION:The Chamber Office
UID:e.363.2698
SEQUENCE:3
DTSTAMP:20260425T233802Z
URL:https://barrowcm.365dtm.com/events/details/lunch-and-learn-seminar-05-19-2009-2698
END:VEVENT

END:VCALENDAR
