BEGIN:VCALENDAR
VERSION:2.0
PRODID:-//ChamberMaster//Event Calendar 2.0//EN
METHOD:PUBLISH
X-PUBLISHED-TTL:P3D
REFRESH-INTERVAL:P3D
CALSCALE:GREGORIAN
BEGIN:VEVENT
DTSTART:20140821T160000Z
DTEND:20140821T170000Z
X-MICROSOFT-CDO-ALLDAYEVENT:FALSE
SUMMARY:Lunch and Learn with BB Webb
DESCRIPTION:Lunch and Learn with BB Webb\n\nJoin BB for a Filming of her Talk as she prepares to Launch a  national speaking and book tour.
X-ALT-DESC;FMTTYPE=text/html:Lunch and Learn with BB Webb<br />\nJoin BB for a Filming of her Talk as she prepares to Launch a&nbsp\; national speaking and book tour.
LOCATION:Winder Community Arts Center
UID:e.363.5447
SEQUENCE:3
DTSTAMP:20260421T214416Z
URL:https://barrowcm.365dtm.com/events/details/lunch-and-learn-with-bb-webb-08-21-2014-5447
END:VEVENT

END:VCALENDAR
