BEGIN:VCALENDAR
VERSION:2.0
PRODID:-//ChamberMaster//Event Calendar 2.0//EN
METHOD:PUBLISH
X-PUBLISHED-TTL:P3D
REFRESH-INTERVAL:P3D
CALSCALE:GREGORIAN
BEGIN:VEVENT
DTSTART:20130123T160000Z
DTEND:20130123T180000Z
X-MICROSOFT-CDO-ALLDAYEVENT:FALSE
SUMMARY:Lunch & Learn
DESCRIPTION:Lunch and Learn Sponsored by Zaxby's\n\nSocial Media made Simple
X-ALT-DESC;FMTTYPE=text/html:Lunch and Learn Sponsored by Zaxby&#39\;s<br />\nSocial Media made Simple
LOCATION:Chamber Office
UID:e.363.4807
SEQUENCE:3
DTSTAMP:20260423T053630Z
URL:https://barrowcm.365dtm.com/events/details/lunch-learn-01-23-2013-4807
END:VEVENT

END:VCALENDAR
