BEGIN:VCALENDAR
VERSION:2.0
PRODID:-//ChamberMaster//Event Calendar 2.0//EN
METHOD:PUBLISH
X-PUBLISHED-TTL:P3D
REFRESH-INTERVAL:P3D
CALSCALE:GREGORIAN
BEGIN:VEVENT
DTSTART:20101109T170000Z
DTEND:20101109T180000Z
X-MICROSOFT-CDO-ALLDAYEVENT:FALSE
SUMMARY:Lunch & Learn
DESCRIPTION:Lunch and Learn
X-ALT-DESC;FMTTYPE=text/html:Lunch and Learn
LOCATION:Chamber Office - #6 Porter Street Zaxby's Sponsoring Lunch
UID:e.363.3626
SEQUENCE:3
DTSTAMP:20260424T195223Z
URL:https://barrowcm.365dtm.com/events/details/lunch-learn-11-09-2010-3626
END:VEVENT

END:VCALENDAR
