BEGIN:VCALENDAR
VERSION:2.0
PRODID:-//ChamberMaster//Event Calendar 2.0//EN
METHOD:PUBLISH
X-PUBLISHED-TTL:P3D
REFRESH-INTERVAL:P3D
CALSCALE:GREGORIAN
BEGIN:VEVENT
DTSTART:20090502T150000Z
DTEND:20090502T180000Z
X-MICROSOFT-CDO-ALLDAYEVENT:FALSE
SUMMARY:Magnolia Estates Spring Fling
DESCRIPTION:Annual Spring Fling Family Day picnic for Magnolia Estates Retirment Center If Attending bring picnic dish and folding chair. Lots of Fun and entertainment  for all.
X-ALT-DESC;FMTTYPE=text/html:<div>Annual Spring Fling Family Day picnic for Magnolia Estates Retirment Center If Attending bring picnic dish and folding chair. Lots of Fun and entertainment&nbsp\; for all.</div>
LOCATION:Magnolia Estates 624 Gainesville Highway\, Winder
UID:e.363.2712
SEQUENCE:3
DTSTAMP:20260425T234054Z
URL:https://barrowcm.365dtm.com/events/details/magnolia-estates-spring-fling-05-02-2009-2712
END:VEVENT

END:VCALENDAR
