BEGIN:VCALENDAR
VERSION:2.0
PRODID:-//ChamberMaster//Event Calendar 2.0//EN
METHOD:PUBLISH
X-PUBLISHED-TTL:P3D
REFRESH-INTERVAL:P3D
CALSCALE:GREGORIAN
BEGIN:VEVENT
DTSTART:20121031T150000Z
DTEND:20121031T170000Z
X-MICROSOFT-CDO-ALLDAYEVENT:FALSE
SUMMARY:Maximum Marketing Class
DESCRIPTION:SBDC Maximum Marketing Class\n\nBig Marketing for Small Budgets
X-ALT-DESC;FMTTYPE=text/html:SBDC Maximum Marketing Class<br />\nBig Marketing for Small Budgets
LOCATION:Winder Community Center 113 East Athens Street Winder\, GA
UID:e.363.4773
SEQUENCE:3
DTSTAMP:20260423T100122Z
URL:https://barrowcm.365dtm.com/events/details/maximum-marketing-class-10-31-2012-4773
END:VEVENT

END:VCALENDAR
