BEGIN:VCALENDAR
VERSION:2.0
PRODID:-//ChamberMaster//Event Calendar 2.0//EN
METHOD:PUBLISH
X-PUBLISHED-TTL:P3D
REFRESH-INTERVAL:P3D
CALSCALE:GREGORIAN
BEGIN:VEVENT
DTSTART:20121107T160000Z
DTEND:20121107T180000Z
X-MICROSOFT-CDO-ALLDAYEVENT:FALSE
SUMMARY:Maximum Marketing Class
DESCRIPTION:SBDC Maximum Marketing Class\n\nPolish Your Plan
X-ALT-DESC;FMTTYPE=text/html:SBDC Maximum Marketing Class<br />\nPolish Your Plan
LOCATION:Winder Community Center 113 East Athens Street Winder\, GA
UID:e.363.4774
SEQUENCE:3
DTSTAMP:20260423T084802Z
URL:https://barrowcm.365dtm.com/events/details/maximum-marketing-class-11-07-2012-4774
END:VEVENT

END:VCALENDAR
