BEGIN:VCALENDAR
VERSION:2.0
PRODID:-//ChamberMaster//Event Calendar 2.0//EN
METHOD:PUBLISH
X-PUBLISHED-TTL:P3D
REFRESH-INTERVAL:P3D
CALSCALE:GREGORIAN
BEGIN:VEVENT
DTSTART:20090827T200000Z
DTEND:20090827T220000Z
X-MICROSOFT-CDO-ALLDAYEVENT:FALSE
SUMMARY:MEDLINK of Winder
DESCRIPTION:Ribbon Cutting - 4:00\,   They will welcome Dr. Jeralyn S. Smith  and there new location.Open House from 4:00 - 6:00
X-ALT-DESC;FMTTYPE=text/html:<div>Ribbon Cutting - 4:00\,&nbsp\;&nbsp\;&nbsp\;They will&nbsp\;welcome Dr. Jeralyn S. Smith&nbsp\; and there new location.</div><div>Open House from 4:00 - 6:00</div>
LOCATION:122 W. Athens Street\, Winder Ga
UID:e.363.3043
SEQUENCE:3
DTSTAMP:20260425T185518Z
URL:https://barrowcm.365dtm.com/events/details/medlink-of-winder-08-27-2009-3043
END:VEVENT

END:VCALENDAR
