BEGIN:VCALENDAR
VERSION:2.0
PRODID:-//ChamberMaster//Event Calendar 2.0//EN
METHOD:PUBLISH
X-PUBLISHED-TTL:P3D
REFRESH-INTERVAL:P3D
CALSCALE:GREGORIAN
BEGIN:VEVENT
DTSTART:20110414T200000Z
DTEND:20110414T210000Z
X-MICROSOFT-CDO-ALLDAYEVENT:FALSE
SUMMARY:Membership Committee Meeting
DESCRIPTION:Membership Committee meeting is specific to planning and implementing programs and recruitment of new members to the Chamber
X-ALT-DESC;FMTTYPE=text/html:Membership Committee meeting is specific to planning and implementing programs and recruitment of new members to the Chamber
LOCATION:Barrow County Chamber of Commerce # 6 Porter Street Winder\, GA 30680
UID:e.363.3753
SEQUENCE:3
DTSTAMP:20260424T121650Z
URL:https://barrowcm.365dtm.com/events/details/membership-committee-meeting-04-14-2011-3753
END:VEVENT

END:VCALENDAR
