BEGIN:VCALENDAR
VERSION:2.0
PRODID:-//ChamberMaster//Event Calendar 2.0//EN
METHOD:PUBLISH
X-PUBLISHED-TTL:P3D
REFRESH-INTERVAL:P3D
CALSCALE:GREGORIAN
BEGIN:VEVENT
DTSTART:20091020T220000Z
DTEND:20091020T233000Z
X-MICROSOFT-CDO-ALLDAYEVENT:FALSE
SUMMARY:Membership Drive Cookout
DESCRIPTION:All Members are Invited to our Membership Drive Cookout\nWelcome all our new members!\nHot Dogs and Hamburgers\, Beer and Wine
X-ALT-DESC;FMTTYPE=text/html:All Members are Invited to our Membership Drive Cookout\nWelcome all our new members!\nHot Dogs and Hamburgers\, Beer and Wine
LOCATION:Chamber Office #6 Porter Street\, Winder
UID:e.363.3057
SEQUENCE:3
DTSTAMP:20260425T152940Z
URL:https://barrowcm.365dtm.com/events/details/membership-drive-cookout-10-20-2009-3057
END:VEVENT

END:VCALENDAR
