BEGIN:VCALENDAR
VERSION:2.0
PRODID:-//ChamberMaster//Event Calendar 2.0//EN
METHOD:PUBLISH
X-PUBLISHED-TTL:P3D
REFRESH-INTERVAL:P3D
CALSCALE:GREGORIAN
BEGIN:VEVENT
DTSTART:20090804T154500Z
DTEND:20090804T170000Z
X-MICROSOFT-CDO-ALLDAYEVENT:FALSE
SUMMARY:Membership Lunch
DESCRIPTION:Sponsor:  City of Winder
X-ALT-DESC;FMTTYPE=text/html:<div>Sponsor:&nbsp\; City of Winder</div><div>&nbsp\;</div><div>&nbsp\;</div>
LOCATION:Barrow County Leisure Services175 2nd StreetWinder\, GA
UID:e.363.2987
SEQUENCE:3
DTSTAMP:20260425T185313Z
URL:https://barrowcm.365dtm.com/events/details/membership-lunch-08-04-2009-2987
END:VEVENT

END:VCALENDAR
