BEGIN:VCALENDAR
VERSION:2.0
PRODID:-//ChamberMaster//Event Calendar 2.0//EN
METHOD:PUBLISH
X-PUBLISHED-TTL:P3D
REFRESH-INTERVAL:P3D
CALSCALE:GREGORIAN
BEGIN:VEVENT
DTSTART:20090602T154500Z
DTEND:20090602T170000Z
X-MICROSOFT-CDO-ALLDAYEVENT:FALSE
SUMMARY:Membership Luncheon
DESCRIPTION:Barrow County Chamber of Commerce Membership Luncheon
X-ALT-DESC;FMTTYPE=text/html:<div>Barrow County Chamber of Commerce Membership Luncheon</div>
LOCATION:Barrow County Leisure Services175 2nd StreetWinder
UID:e.363.2986
SEQUENCE:3
DTSTAMP:20260425T213713Z
URL:https://barrowcm.365dtm.com/events/details/membership-luncheon-06-02-2009-2986
END:VEVENT

END:VCALENDAR
