BEGIN:VCALENDAR
VERSION:2.0
PRODID:-//ChamberMaster//Event Calendar 2.0//EN
METHOD:PUBLISH
X-PUBLISHED-TTL:P3D
REFRESH-INTERVAL:P3D
CALSCALE:GREGORIAN
BEGIN:VEVENT
DTSTART:20090901T154500Z
DTEND:20090901T170000Z
X-MICROSOFT-CDO-ALLDAYEVENT:FALSE
SUMMARY:Membership Luncheon
DESCRIPTION:Membership LuncheonGuest Speaker will be:  John Oxendine Georgia Insurance & Safety CommissionerJohn Oxendine is serving his 4th term as Georgia's Insurance and Safety Commissioner.  You are invited to join us as John Oxendine updates the Chamber on what the Commissioner has accomplished to help protect the interests of Georgia Consumers insurance products.
X-ALT-DESC;FMTTYPE=text/html:<div>Membership Luncheon</div><div>Guest Speaker will be:&nbsp\; John Oxendine Georgia Insurance &amp\; Safety Commissioner</div><p>John Oxendine is serving his 4th term as Georgia's Insurance and Safety Commissioner.&nbsp\; You are invited to join us as John Oxendine updates the Chamber on what the Commissioner has accomplished to help protect the interests of Georgia Consumers insurance products.</p>
LOCATION:Barrow County Park and Recreation Department175 2nd StreetWinder\, GA
UID:e.363.2988
SEQUENCE:3
DTSTAMP:20260425T172943Z
URL:https://barrowcm.365dtm.com/events/details/membership-luncheon-09-01-2009-2988
END:VEVENT

END:VCALENDAR
