BEGIN:VCALENDAR
VERSION:2.0
PRODID:-//ChamberMaster//Event Calendar 2.0//EN
METHOD:PUBLISH
X-PUBLISHED-TTL:P3D
REFRESH-INTERVAL:P3D
CALSCALE:GREGORIAN
BEGIN:VEVENT
DTSTART:20130910T154500Z
DTEND:20130910T170000Z
X-MICROSOFT-CDO-ALLDAYEVENT:FALSE
SUMMARY:Membership Meeting
DESCRIPTION:Membership Meeting - Sponsor CB & T\n\n Guest Speaker:\n\n            Todd Henry joined Caterpillar in 2006 as Plant Manager for the Building Construction Products (BCP) Division's facility in Clayton\, North Carolina.   Todd assumed the role of Plant Manager for BCP's new North American facility in Athens\, Georgia in February 2012\, and will oversee the construction\, start up\, and continuing operations upon completion.
X-ALT-DESC;FMTTYPE=text/html:Membership Meeting - Sponsor CB &amp\; T<br />\n&nbsp\;Guest Speaker:<br />\n<span style="font-family:arial\,sans-serif\;">&nbsp\;&nbsp\;&nbsp\;&nbsp\;&nbsp\;&nbsp\;&nbsp\;&nbsp\;&nbsp\;&nbsp\;&nbsp\; Todd Henry joined Caterpillar in 2006 as Plant Manager for the Building Construction Products (BCP) Division&rsquo\;s facility in Clayton\, North Carolina.&nbsp\;&nbsp\; Todd assumed the role of Plant Manager for BCP&rsquo\;s new North American facility in Athens\, Georgia in February 2012\, and will oversee the construction\, start up\, and continuing operations upon completion.</span><br />\n
LOCATION:Barrow County Park and Rec. Department Speaker:
UID:e.363.5023
SEQUENCE:3
DTSTAMP:20260422T174421Z
URL:https://barrowcm.365dtm.com/events/details/membership-meeting-09-10-2013-5023
END:VEVENT

END:VCALENDAR
