BEGIN:VCALENDAR
VERSION:2.0
PRODID:-//ChamberMaster//Event Calendar 2.0//EN
METHOD:PUBLISH
X-PUBLISHED-TTL:P3D
REFRESH-INTERVAL:P3D
CALSCALE:GREGORIAN
BEGIN:VEVENT
DTSTART;VALUE=DATE:20120911
DTEND;VALUE=DATE:20120912
TRANSP:TRANSPARENT
X-MICROSOFT-CDO-ALLDAYEVENT:TRUE
SUMMARY:Membership Meeting
DESCRIPTION:First American  Bank Sponsoring First Tuesday Membership meeting\n\nGuest Speaker:  LTC (Ret) Thad McWhorter
X-ALT-DESC;FMTTYPE=text/html:First American&nbsp\; Bank Sponsoring First Tuesday Membership meeting<br />\nGuest Speaker:&nbsp\; LTC (Ret) Thad McWhorter
LOCATION:Barrow County Park and Rec. Department 175 Second Street\, Winder
UID:e.363.4516
SEQUENCE:3
DTSTAMP:20260423T113942Z
URL:https://barrowcm.365dtm.com/events/details/membership-meeting-09-11-2012-4516
END:VEVENT

END:VCALENDAR
