BEGIN:VCALENDAR
VERSION:2.0
PRODID:-//ChamberMaster//Event Calendar 2.0//EN
METHOD:PUBLISH
X-PUBLISHED-TTL:P3D
REFRESH-INTERVAL:P3D
CALSCALE:GREGORIAN
BEGIN:VEVENT
DTSTART:20100914T153000Z
DTEND:20100914T170000Z
X-MICROSOFT-CDO-ALLDAYEVENT:FALSE
SUMMARY:Membership Meeting ( Second Tuesday)
DESCRIPTION:Sponsored by:  Georgia Power Guest Speaker:Dr. Claude Burnett has been the District Health Director of the 10-county Northeast Health District since 1978. He oversees the management of the county Health Departments as well as district-wide health programs such as Teen Pregnancy Prevention\, Family Planning\, High Risk Infant and Child Medical Services\, Immunization and Hypertension Treatment.
X-ALT-DESC;FMTTYPE=text/html:<div>Sponsored by:&nbsp\; Georgia Power</div><div>&nbsp\;</div><div>Guest Speaker:</div><div><div style="margin: 0in 0in 0pt">Dr. Claude Burnett has been the District Health Director of the 10-county Northeast Health District since 1978.&nbsp\;He oversees the management of the county Health Departments as well as district-wide health programs such as Teen Pregnancy Prevention\, Family Planning\, High Risk Infant and Child Medical Services\, Immunization and Hypertension Treatment.</div></div>
LOCATION:Barrow County Park and Rec Department 175 2nd Street\, Winder 30680
UID:e.363.3580
SEQUENCE:3
DTSTAMP:20260424T224052Z
URL:https://barrowcm.365dtm.com/events/details/membership-meeting-second-tuesday-09-14-2010-3580
END:VEVENT

END:VCALENDAR
