BEGIN:VCALENDAR
VERSION:2.0
PRODID:-//ChamberMaster//Event Calendar 2.0//EN
METHOD:PUBLISH
X-PUBLISHED-TTL:P3D
REFRESH-INTERVAL:P3D
CALSCALE:GREGORIAN
BEGIN:VEVENT
DTSTART:20111208T164500Z
DTEND:20111208T180000Z
X-MICROSOFT-CDO-ALLDAYEVENT:FALSE
SUMMARY:Membership Meeting -Vince Dooley
DESCRIPTION:Membership Meeting - Lunch with Vince Dooley\n\nNotice the change of date to thursday
X-ALT-DESC;FMTTYPE=text/html:Membership Meeting - Lunch with Vince Dooley<br />\nNotice the change of date to thursday
LOCATION:The Georgia Club 1050 Chancellors Drive Statham\, GA
UID:e.363.4091
SEQUENCE:3
DTSTAMP:20260424T013755Z
URL:https://barrowcm.365dtm.com/events/details/membership-meeting-vince-dooley-12-08-2011-4091
END:VEVENT

END:VCALENDAR
