BEGIN:VCALENDAR
VERSION:2.0
PRODID:-//ChamberMaster//Event Calendar 2.0//EN
METHOD:PUBLISH
X-PUBLISHED-TTL:P3D
REFRESH-INTERVAL:P3D
CALSCALE:GREGORIAN
BEGIN:VEVENT
DTSTART:20091103T164500Z
DTEND:20091103T180000Z
X-MICROSOFT-CDO-ALLDAYEVENT:FALSE
SUMMARY:Membrship Lunch
DESCRIPTION:Membership Lunch Sponsored by:  Regional First Care
X-ALT-DESC;FMTTYPE=text/html:<div>Membership Lunch Sponsored by:&nbsp\; Regional First Care</div>
LOCATION:Barrow County Park and Rec. Department175 2nd Street\, Winder\, Ga.
UID:e.363.3027
SEQUENCE:3
DTSTAMP:20260425T135321Z
URL:https://barrowcm.365dtm.com/events/details/membrship-lunch-11-03-2009-3027
END:VEVENT

END:VCALENDAR
