BEGIN:VCALENDAR
VERSION:2.0
PRODID:-//ChamberMaster//Event Calendar 2.0//EN
METHOD:PUBLISH
X-PUBLISHED-TTL:P3D
REFRESH-INTERVAL:P3D
CALSCALE:GREGORIAN
BEGIN:VEVENT
DTSTART;VALUE=DATE:20150525
DTEND;VALUE=DATE:20150526
TRANSP:TRANSPARENT
X-MICROSOFT-CDO-ALLDAYEVENT:TRUE
SUMMARY:Memorial Day Ceremony at Rose Hill
DESCRIPTION:The Barrow County VFW Post 1187 and its Ladies Auxiliary will be conducting a Memorial Day Ceremony to honor and remember those from Barrow County tht gave their lives during previous and present wars for our Great Country.
X-ALT-DESC;FMTTYPE=text/html:The Barrow County VFW Post 1187 and its Ladies Auxiliary will be conducting a Memorial Day Ceremony to honor and remember those from Barrow County tht gave their lives during previous and present wars for our Great Country.
LOCATION:Rose Hill Cemetery on We. Candler Street
UID:e.363.5780
SEQUENCE:3
DTSTAMP:20260421T080617Z
URL:https://barrowcm.365dtm.com/events/details/memorial-day-ceremony-at-rose-hill-05-25-2015-5780
END:VEVENT

END:VCALENDAR
