BEGIN:VCALENDAR
VERSION:2.0
PRODID:-//ChamberMaster//Event Calendar 2.0//EN
METHOD:PUBLISH
X-PUBLISHED-TTL:P3D
REFRESH-INTERVAL:P3D
CALSCALE:GREGORIAN
BEGIN:VEVENT
DTSTART:20170514T140000Z
DTEND:20170514T180000Z
X-MICROSOFT-CDO-ALLDAYEVENT:FALSE
SUMMARY:Mother's Day Brunch
DESCRIPTION:We are rolling out the red carpet for 'Mom' this Mother's Day ... a perfect opportunity to gather with family\, enjoy wonderful cuisine\, experience the charm of Carl House\, and celebrate 'Mom'!\n\nThree seating's available - 10:00am\, Noon and 2:00pm. Visit our website to see the menu and make the reservations so we can be sure to set a table just for you and your family! $37.50 Ages 13 and up\, $19.95 Ages 6 to 12 (Plus tax and service charge). Children 5 and under no charge. Mimosas and Champagne also available at additional cost. Call 770-586-0095 for questions\, make your reservations by Thursday\, May 11\, 2017.
X-ALT-DESC;FMTTYPE=text/html:We are rolling out the red carpet for &lsquo\;Mom&rsquo\; this Mother&rsquo\;s Day ... a perfect opportunity to gather with family\, enjoy wonderful cuisine\, experience the charm of Carl House\, and celebrate &lsquo\;Mom&rsquo\;!<br />\nThree seating&rsquo\;s available - 10:00am\, Noon and 2:00pm.&nbsp\;Visit our website to see the menu and make the reservations so we can be sure to set a table just for you and your family! $37.50 Ages 13 and up\, $19.95 Ages 6 to 12 (Plus tax and service charge). Children 5 and under no charge. Mimosas and Champagne also available at additional cost. Call 770-586-0095 for questions\, make your reservations by Thursday\, May 11\, 2017.<br />\n&nbsp\;
LOCATION:1176 Atlanta Highway\, Auburn GA 30011
UID:e.363.6935
SEQUENCE:3
DTSTAMP:20260419T182930Z
URL:https://barrowcm.365dtm.com/events/details/mother-s-day-brunch-6935
END:VEVENT

END:VCALENDAR
