BEGIN:VCALENDAR
VERSION:2.0
PRODID:-//ChamberMaster//Event Calendar 2.0//EN
METHOD:PUBLISH
X-PUBLISHED-TTL:P3D
REFRESH-INTERVAL:P3D
CALSCALE:GREGORIAN
BEGIN:VEVENT
DTSTART:20140511T150000Z
DTEND:20140511T170000Z
X-MICROSOFT-CDO-ALLDAYEVENT:FALSE
SUMMARY:Mother's Day Brunch - A Carl House Tradition
DESCRIPTION:We are rolling out the red carpet for 'Mom' this Mother's Day ... a perfect opportunity to gather with family\, enjoy wonderful cuisine\, experience the charm of Carl House\, and celebrate 'Mom'!\n\nJoin us Sunday\, May 11\, 2014. Two seating available - 11:00am or 1:00pm. \n\n\n\nVisit www.carlhouse.com/public-events/  to see the menu.  Call us by May 5 to make the reservations so we can be sure to set a table just for you and your family! $37.50 Ages 13 and up\, $19.95 Ages 6 to 12 (Plus tax and service charge). Children 5 and under no charge. Mimosas and Champagne also available at additional cost. Call 770-586-0095 for reservations by 4:00pm\, Tuesday\, May 6\, 2014
X-ALT-DESC;FMTTYPE=text/html:<div><span style="font-size:14px\;"><span style="font-family:arial\,helvetica\,sans-serif\;"><big>We are rolling out the red carpet for &lsquo\;Mom&rsquo\; this Mother&rsquo\;s Day ... a perfect opportunity to gather with family\, enjoy wonderful cuisine\, experience the charm of Carl House\, and celebrate &lsquo\;Mom&rsquo\;!<br />\nJoin us Sunday\, May 11\, 2014. Two seating available - 11:00am or 1:00pm.&nbsp\;<br />\n<br />\nVisit <a href="http://www.carlhouse.com/public-events/">www.carlhouse.com/public-events/</a> &nbsp\;to see the menu.<span style="color:#342311\;">&nbsp\; Call us by May 5 to make the reservations so we can be sure to set a table just for you and your family! </span>$37.50 Ages 13 and up\, $19.95 Ages 6 to 12 (Plus tax and service charge). Children 5 and under no charge. Mimosas and Champagne also available at additional cost. <strong><em>Call 770-586-0095 for reservations by 4:00pm\, Tuesday\, May 6\, 2014</em></strong></big></span></span></div>\n
LOCATION:Carl House
UID:e.363.5422
SEQUENCE:3
DTSTAMP:20260422T021028Z
URL:https://barrowcm.365dtm.com/events/details/mother-s-day-brunch-a-carl-house-tradition-05-11-2014-5422
END:VEVENT

END:VCALENDAR
