BEGIN:VCALENDAR
VERSION:2.0
PRODID:-//ChamberMaster//Event Calendar 2.0//EN
METHOD:PUBLISH
X-PUBLISHED-TTL:P3D
REFRESH-INTERVAL:P3D
CALSCALE:GREGORIAN
BEGIN:VEVENT
DTSTART;VALUE=DATE:20110508
DTEND;VALUE=DATE:20110509
TRANSP:TRANSPARENT
X-MICROSOFT-CDO-ALLDAYEVENT:TRUE
SUMMARY:Mother's Day Brunch at Carl House
DESCRIPTION:Mother?s Day Brunch at Carl House\n\nSunday May 8\, 2011  Seatings at 11am and 1pm\n\n$37.50 plus tax and service ? $19.95 for children 12 and under \n\n5 years old and younger no charge\n\nMimosas $4.95  Champagne $22.00 bottle.\n\nCall 770-586-0095 for reservations by Tuesday May 3rd.\n\n\n\nSalads\n\nClassic Caesar Salad with Garlic Herb Croutons & Parmesan Cheese\n\nCucumber & Tomato Salad With Vidalia Onion Vinaigrette\n\nPortobello & Sundried Tomato Pasta Salad\n\nDeviled Eggs Supreme\n\n\n\nBreakfast\n\nApplewood Smoked Bacon & Sausage\n\nCheese Grits\n\nStrawberry Cheesecake French Toast\n\nPan Fried Potatoes O' Brien\n\n\n\nSides\n\nGarlic Mashed Potatoes\n\nSmoked Gouda Mac-N-Cheese\n\nSpring Veggie Medley\n\n3 Pepper Saffron Rice Pilaf\n\n\n\nEntrees\n\nHerb Crusted Porkloin\, with a Roasted Shallot Demi Glaze\n\nChicken Abruzzi pan fried in a Creamy Port Wine Mushroom Sauce\n\nCatfish LaFayette\, Sauteed Baby Shrimp in a Sherry Cream Sauce\n\n\n\nCarving Station\n\nCajun Deep Fried Turkey Breast with Remoulade Sauce\n\n\n\nOmelet Station\n\nBuild your own Omelet or choose your style of eggs\n\n\n\nDessert\n\nSweet Potato & White Chocolate Bread Pudding with Vanilla Sauce\n\nAssorted Cakes and Pies
X-ALT-DESC;FMTTYPE=text/html:Mother?s Day Brunch at Carl House\n<br>Sunday May 8\, 2011  Seatings at 11am and 1pm\n<br>$37.50 plus tax and service ? $19.95 for children 12 and under \n<br>5 years old and younger no charge\n<br>Mimosas $4.95  Champagne $22.00 bottle.\n<br>Call 770-586-0095 for reservations by Tuesday May 3rd.\n<br>\n<br>Salads\n<br>Classic Caesar Salad with Garlic Herb Croutons &amp\; Parmesan Cheese\n<br>Cucumber &amp\; Tomato Salad With Vidalia Onion Vinaigrette\n<br>Portobello &amp\; Sundried Tomato Pasta Salad\n<br>Deviled Eggs Supreme\n<br>\n<br>Breakfast\n<br>Applewood Smoked Bacon &amp\; Sausage\n<br>Cheese Grits\n<br>Strawberry Cheesecake French Toast\n<br>Pan Fried Potatoes O' Brien\n<br>\n<br>Sides\n<br>Garlic Mashed Potatoes\n<br>Smoked Gouda Mac-N-Cheese\n<br>Spring Veggie Medley\n<br>3 Pepper Saffron Rice Pilaf\n<br>\n<br>Entrees\n<br>Herb Crusted Porkloin\, with a Roasted Shallot Demi Glaze\n<br>Chicken Abruzzi pan fried in a Creamy Port Wine Mushroom Sauce\n<br>Catfish LaFayette\, Sauteed Baby Shrimp in a Sherry Cream Sauce\n<br>\n<br>Carving Station\n<br>Cajun Deep Fried Turkey Breast with Remoulade Sauce\n<br>\n<br>Omelet Station\n<br>Build your own Omelet or choose your style of eggs\n<br>\n<br>Dessert\n<br>Sweet Potato &amp\; White Chocolate Bread Pudding with Vanilla Sauce\n<br>Assorted Cakes and Pies\n<br>\n<br>
LOCATION:Carl House\, 1176 Atlanta Highway\, Auburn\, GA 30011
UID:e.363.4020
SEQUENCE:3
DTSTAMP:20260424T111011Z
URL:https://barrowcm.365dtm.com/events/details/mother-s-day-brunch-at-carl-house-05-08-2011-4020
END:VEVENT

END:VCALENDAR
