BEGIN:VCALENDAR
VERSION:2.0
PRODID:-//ChamberMaster//Event Calendar 2.0//EN
METHOD:PUBLISH
X-PUBLISHED-TTL:P3D
REFRESH-INTERVAL:P3D
CALSCALE:GREGORIAN
BEGIN:VEVENT
DTSTART:20130511T130000Z
DTEND:20130511T210000Z
X-MICROSOFT-CDO-ALLDAYEVENT:FALSE
SUMMARY:Muck Run ~ Benefitting Peace Place
DESCRIPTION:Muck Run is a 5k ( 5kilometers/3.2 miles) race through the woods\, creeks\, mud\, and swamps - over\, under\, and sometimes through obstacles. Race as an individual or as a team. MuckRun is for everyone\, whether you are an athlete or a couch potato.\n\nBenefits Peace Place.
X-ALT-DESC;FMTTYPE=text/html:Muck Run is a 5k ( 5kilometers/3.2 miles) race through the woods\, creeks\, mud\, and swamps - over\, under\, and sometimes through obstacles. Race as an individual or as a team. MuckRun is for everyone\, whether you are an athlete or a couch potato.<br />\nBenefits Peace Place.
LOCATION:Crockett Crossing at 1075 Holbrook Rd\, Carnesville\, GA 30521
UID:e.363.4845
SEQUENCE:3
DTSTAMP:20260422T233313Z
URL:https://barrowcm.365dtm.com/events/details/muck-run-benefitting-peace-place-05-11-2013-4845
END:VEVENT

END:VCALENDAR
