BEGIN:VCALENDAR
VERSION:2.0
PRODID:-//ChamberMaster//Event Calendar 2.0//EN
METHOD:PUBLISH
X-PUBLISHED-TTL:P3D
REFRESH-INTERVAL:P3D
CALSCALE:GREGORIAN
BEGIN:VEVENT
DTSTART:20120322T210000Z
DTEND:20120322T230000Z
X-MICROSOFT-CDO-ALLDAYEVENT:FALSE
SUMMARY:Multi Chamber BAH
DESCRIPTION:Multi Chamber  Business after Hours\n\nAthens\, Barrow\, Oconee\, Jackson\, Madison\, Monroe
X-ALT-DESC;FMTTYPE=text/html:Multi Chamber &nbsp\;Business after Hours<br />\nAthens\, Barrow\, Oconee\, Jackson\, Madison\, Monroe
LOCATION:The Georgia Club
UID:e.363.4186
SEQUENCE:3
DTSTAMP:20260423T211359Z
URL:https://barrowcm.365dtm.com/events/details/multi-chamber-bah-03-22-2012-4186
END:VEVENT

END:VCALENDAR
