BEGIN:VCALENDAR
VERSION:2.0
PRODID:-//ChamberMaster//Event Calendar 2.0//EN
METHOD:PUBLISH
X-PUBLISHED-TTL:P3D
REFRESH-INTERVAL:P3D
CALSCALE:GREGORIAN
BEGIN:VEVENT
DTSTART:20151008T134500Z
DTEND:20151008T153000Z
X-MICROSOFT-CDO-ALLDAYEVENT:FALSE
SUMMARY:Murcon Seminar
DESCRIPTION:Murcon Seminar - Creating Successful Offers and Promotional Campaigns
X-ALT-DESC;FMTTYPE=text/html:Murcon Seminar - <span style="font-family:arial\,sans-serif\;"><span style="font-size:12.0pt\;">Creating Successful Offers and Promotional Campaigns</span></span>
LOCATION:Chamber Office
UID:e.363.5824
SEQUENCE:3
DTSTAMP:20260420T232358Z
URL:https://barrowcm.365dtm.com/events/details/murcon-seminar-10-08-2015-5824
END:VEVENT

END:VCALENDAR
