BEGIN:VCALENDAR
VERSION:2.0
PRODID:-//ChamberMaster//Event Calendar 2.0//EN
METHOD:PUBLISH
X-PUBLISHED-TTL:P3D
REFRESH-INTERVAL:P3D
CALSCALE:GREGORIAN
BEGIN:VEVENT
DTSTART:20160108T140000Z
DTEND:20160108T150000Z
X-MICROSOFT-CDO-ALLDAYEVENT:FALSE
SUMMARY:Network Barrow
DESCRIPTION:Network Barrow
X-ALT-DESC;FMTTYPE=text/html:Network Barrow
LOCATION:Chamber Office #6 Porter Street
UID:e.363.5280
SEQUENCE:3
DTSTAMP:20260420T185816Z
URL:https://barrowcm.365dtm.com/events/details/network-barrow-01-08-2016-5280
END:VEVENT

END:VCALENDAR
