BEGIN:VCALENDAR
VERSION:2.0
PRODID:-//ChamberMaster//Event Calendar 2.0//EN
METHOD:PUBLISH
X-PUBLISHED-TTL:P3D
REFRESH-INTERVAL:P3D
CALSCALE:GREGORIAN
BEGIN:VEVENT
DTSTART:20120217T133000Z
DTEND:20120217T150000Z
X-MICROSOFT-CDO-ALLDAYEVENT:FALSE
SUMMARY:Network Barrow
DESCRIPTION:Network Barrow is the premier networking opportunity in Barrow County. This event is a small part of the many benefits provided by the Barrow County Chamber of Commerce. Network Barrow meets every Friday from 8:30 am 10:00 am\, located at Body Transformer Fitness\, 133 W. Athens street (next door to Johnny's Pizza) With an average of 15 people in attendance\, 3 visitors\, 10 leads passed\, and 3 sales per week\, this a very beneficial opportunity for all businesses in this area. The first Friday of each month will feature a guest speaker providing very valuable information for all businesses in attendance. Please come and join us at Network Barrow. Cost is $5.00
X-ALT-DESC;FMTTYPE=text/html:<span style="font-size: 14px"><span style="font-family: times new roman"><span style="font-family: times new roman">Network Barrow is the premier networking opportunity in Barrow County. This event is a small part of the many benefits provided by the Barrow County Chamber of Commerce. Network Barrow meets every Friday from 8:30 am 10:00 am\, located at&nbsp\;Body Transformer Fitness\, 133 W. Athens street (next door to Johnny&#39\;s Pizza)&nbsp\;With an average of&nbsp\;15 </span></span>people in attendance\, 3 visitors\, 10 leads passed\, and 3 sales per week\,&nbsp\;this a very beneficial opportunity for all businesses in this area. The first Friday of each month will feature a guest speaker providing very valuable information for all businesses in attendance. Please come and join us at Network Barrow. Cost is $5.00&nbsp\;</span><br />\n&nbsp\;&nbsp\;<br />\n<span _fck_bookmark="1" style="display: none">&nbsp\;</span>
LOCATION:Body Transformer 133 W. Athens St\, WInder
UID:e.363.4135
SEQUENCE:3
DTSTAMP:20260423T222037Z
URL:https://barrowcm.365dtm.com/events/details/network-barrow-02-17-2012-4135
END:VEVENT

END:VCALENDAR
