BEGIN:VCALENDAR
VERSION:2.0
PRODID:-//ChamberMaster//Event Calendar 2.0//EN
METHOD:PUBLISH
X-PUBLISHED-TTL:P3D
REFRESH-INTERVAL:P3D
CALSCALE:GREGORIAN
BEGIN:VEVENT
DTSTART:20090228T034500Z
DTEND:20090227T170000Z
X-MICROSOFT-CDO-ALLDAYEVENT:FALSE
SUMMARY:Network Barrow
DESCRIPTION:Network Barrow\, an opportunity for 25 business assistants to sale your business. Yes! Come and meet the other business associates who want to help in growing your business as well as you helping them grow. We like to watch your business grow. Sign up for one of our Lunch and Learns to help you succeed. The Barrow County Chamber is all about growing your business.\nMarch 24 Lunch and Learn limited seating\, 11:00-1:00 at the Chamber office. Empowerment\, Mind Body and Soul. Lets not only give you a boost in how you think\, what you eat\, and your inner soul that makes you who you are! $10..00 for lunch sign up now.
X-ALT-DESC;FMTTYPE=text/html:Network Barrow\, an opportunity for 25 business assistants to sale your business. Yes! Come and meet the other business associates who want to help in growing your business as well as you helping them grow. We like to watch your business grow. Sign up for one of our Lunch and Learns to help you succeed. The Barrow County Chamber is all about growing your business.\nMarch 24 Lunch and Learn limited seating\, 11:00-1:00 at the Chamber office. Empowerment\, Mind Body and Soul. Lets not only give you a boost in how you think\, what you eat\, and your inner soul that makes you who you are! $10..00 for lunch sign up now. 
LOCATION:Network Barrow is at The Brad Akins YMCA on Brad Akins Dr Winder\, Georgia
UID:e.363.2667
SEQUENCE:3
DTSTAMP:20260426T042714Z
URL:https://barrowcm.365dtm.com/events/details/network-barrow-02-27-2009-2667
END:VEVENT

END:VCALENDAR
