BEGIN:VCALENDAR
VERSION:2.0
PRODID:-//ChamberMaster//Event Calendar 2.0//EN
METHOD:PUBLISH
X-PUBLISHED-TTL:P3D
REFRESH-INTERVAL:P3D
CALSCALE:GREGORIAN
BEGIN:VEVENT
DTSTART:20130405T143000Z
DTEND:20130405T153000Z
X-MICROSOFT-CDO-ALLDAYEVENT:FALSE
SUMMARY:Network Barrow
DESCRIPTION:Network Barrow\n\n"Where Business Leads Barrow"
X-ALT-DESC;FMTTYPE=text/html:Network Barrow<br />\n&quot\;Where Business Leads Barrow&quot\;
LOCATION:Chamber Office #6 Porter Street
UID:e.363.4850
SEQUENCE:3
DTSTAMP:20260423T011138Z
URL:https://barrowcm.365dtm.com/events/details/network-barrow-04-05-2013-4850
END:VEVENT

END:VCALENDAR
