BEGIN:VCALENDAR
VERSION:2.0
PRODID:-//ChamberMaster//Event Calendar 2.0//EN
METHOD:PUBLISH
X-PUBLISHED-TTL:P3D
REFRESH-INTERVAL:P3D
CALSCALE:GREGORIAN
BEGIN:VEVENT
DTSTART:20130927T130000Z
DTEND:20130927T140000Z
X-MICROSOFT-CDO-ALLDAYEVENT:FALSE
SUMMARY:Network Barrow
DESCRIPTION:Network Barrow\n\nFastest Hour to pass leads
X-ALT-DESC;FMTTYPE=text/html:Network Barrow<br />\nFastest Hour to pass leads<br />\n
LOCATION:Chamber Office
UID:e.363.5134
SEQUENCE:3
DTSTAMP:20260422T174206Z
URL:https://barrowcm.365dtm.com/events/details/network-barrow-09-27-2013-5134
END:VEVENT

END:VCALENDAR
