BEGIN:VCALENDAR
VERSION:2.0
PRODID:-//ChamberMaster//Event Calendar 2.0//EN
METHOD:PUBLISH
X-PUBLISHED-TTL:P3D
REFRESH-INTERVAL:P3D
CALSCALE:GREGORIAN
BEGIN:VEVENT
DTSTART:20131011T130000Z
DTEND:20131011T140000Z
X-MICROSOFT-CDO-ALLDAYEVENT:FALSE
SUMMARY:Network Barrow
DESCRIPTION:Network Barrow
X-ALT-DESC;FMTTYPE=text/html:Network Barrow
LOCATION:Chamber Office #6 Porter Street
UID:e.363.5144
SEQUENCE:3
DTSTAMP:20260422T160712Z
URL:https://barrowcm.365dtm.com/events/details/network-barrow-10-11-2013-5144
END:VEVENT

END:VCALENDAR
