BEGIN:VCALENDAR
VERSION:2.0
PRODID:-//ChamberMaster//Event Calendar 2.0//EN
METHOD:PUBLISH
X-PUBLISHED-TTL:P3D
REFRESH-INTERVAL:P3D
CALSCALE:GREGORIAN
BEGIN:VEVENT
DTSTART:20131018T130000Z
DTEND:20131018T140000Z
X-MICROSOFT-CDO-ALLDAYEVENT:FALSE
SUMMARY:Network Barrow
DESCRIPTION:Network Barrow
X-ALT-DESC;FMTTYPE=text/html:Network Barrow
LOCATION:Chamber Office
UID:e.363.5150
SEQUENCE:3
DTSTAMP:20260422T161156Z
URL:https://barrowcm.365dtm.com/events/details/network-barrow-10-18-2013-5150
END:VEVENT

END:VCALENDAR
