BEGIN:VCALENDAR
VERSION:2.0
PRODID:-//ChamberMaster//Event Calendar 2.0//EN
METHOD:PUBLISH
X-PUBLISHED-TTL:P3D
REFRESH-INTERVAL:P3D
CALSCALE:GREGORIAN
BEGIN:VEVENT
DTSTART:20131115T140000Z
DTEND:20131115T150000Z
X-MICROSOFT-CDO-ALLDAYEVENT:FALSE
SUMMARY:Network Barrow
DESCRIPTION:Network Barrow
X-ALT-DESC;FMTTYPE=text/html:Network Barrow
LOCATION:Chamber Office
UID:e.363.5158
SEQUENCE:3
DTSTAMP:20260422T111744Z
URL:https://barrowcm.365dtm.com/events/details/network-barrow-11-15-2013-5158
END:VEVENT

END:VCALENDAR
