BEGIN:VCALENDAR
VERSION:2.0
PRODID:-//ChamberMaster//Event Calendar 2.0//EN
METHOD:PUBLISH
X-PUBLISHED-TTL:P3D
REFRESH-INTERVAL:P3D
CALSCALE:GREGORIAN
BEGIN:VEVENT
DTSTART:20121102T123000Z
DTEND:20121102T133000Z
X-MICROSOFT-CDO-ALLDAYEVENT:FALSE
SUMMARY:Network Barrow Kick Off
DESCRIPTION:Network Barrow
X-ALT-DESC;FMTTYPE=text/html:&nbsp\;Network Barrow
LOCATION:Chamber Office #6 Porter Street\, Winder
UID:e.363.4551
SEQUENCE:3
DTSTAMP:20260423T084942Z
URL:https://barrowcm.365dtm.com/events/details/network-barrow-kick-off-11-02-2012-4551
END:VEVENT

END:VCALENDAR
