BEGIN:VCALENDAR
VERSION:2.0
PRODID:-//ChamberMaster//Event Calendar 2.0//EN
METHOD:PUBLISH
X-PUBLISHED-TTL:P3D
REFRESH-INTERVAL:P3D
CALSCALE:GREGORIAN
BEGIN:VEVENT
DTSTART:20110126T170000Z
DTEND:20110126T183000Z
X-MICROSOFT-CDO-ALLDAYEVENT:FALSE
SUMMARY:New Member Reception
DESCRIPTION:New Member Reception
X-ALT-DESC;FMTTYPE=text/html:<p>\n	New Member Reception</p>
LOCATION:Chamber Office Zaxby will sponsor Lunch
UID:e.363.3660
SEQUENCE:3
DTSTAMP:20260424T165021Z
URL:https://barrowcm.365dtm.com/events/details/new-member-reception-01-26-2011-3660
END:VEVENT

END:VCALENDAR
