BEGIN:VCALENDAR
VERSION:2.0
PRODID:-//ChamberMaster//Event Calendar 2.0//EN
METHOD:PUBLISH
X-PUBLISHED-TTL:P3D
REFRESH-INTERVAL:P3D
CALSCALE:GREGORIAN
BEGIN:VEVENT
DTSTART:20090521T040000Z
DTEND:20090521T170000Z
X-MICROSOFT-CDO-ALLDAYEVENT:FALSE
SUMMARY:New Member Reception
DESCRIPTION:New Member Reception Lunch
X-ALT-DESC;FMTTYPE=text/html:New Member Reception Lunch
LOCATION:The Chamber
UID:e.363.2710
SEQUENCE:3
DTSTAMP:20260425T233756Z
URL:https://barrowcm.365dtm.com/events/details/new-member-reception-05-21-2009-2710
END:VEVENT

END:VCALENDAR
