BEGIN:VCALENDAR
VERSION:2.0
PRODID:-//ChamberMaster//Event Calendar 2.0//EN
METHOD:PUBLISH
X-PUBLISHED-TTL:P3D
REFRESH-INTERVAL:P3D
CALSCALE:GREGORIAN
BEGIN:VEVENT
DTSTART:20090528T160000Z
DTEND:20090528T173000Z
X-MICROSOFT-CDO-ALLDAYEVENT:FALSE
SUMMARY:New Member Reception
DESCRIPTION:New Member LuncheonSponsored by Firehouse Subs
X-ALT-DESC;FMTTYPE=text/html:<div>New Member Luncheon</div><div>Sponsored by Firehouse Subs</div>
LOCATION:Chamber office#6 Porter StreetWinder
UID:e.363.2721
SEQUENCE:3
DTSTAMP:20260425T233756Z
URL:https://barrowcm.365dtm.com/events/details/new-member-reception-05-28-2009-2721
END:VEVENT

END:VCALENDAR
