BEGIN:VCALENDAR
VERSION:2.0
PRODID:-//ChamberMaster//Event Calendar 2.0//EN
METHOD:PUBLISH
X-PUBLISHED-TTL:P3D
REFRESH-INTERVAL:P3D
CALSCALE:GREGORIAN
BEGIN:VEVENT
DTSTART:20100819T154500Z
DTEND:20100819T170000Z
X-MICROSOFT-CDO-ALLDAYEVENT:FALSE
SUMMARY:New Member Reception
DESCRIPTION:New Member ReceptionFor all new quarterly new members\, ambassadors and Board of DirectorsLunch will be provided by Zaxby's
X-ALT-DESC;FMTTYPE=text/html:<div>New Member Reception</div><div>For all new quarterly new members\, ambassadors and Board of Directors</div><div>Lunch will be provided by Zaxby's</div>
LOCATION:The Chamber Office#6 Porter Street\, Winder
UID:e.363.3579
SEQUENCE:3
DTSTAMP:20260425T001119Z
URL:https://barrowcm.365dtm.com/events/details/new-member-reception-08-19-2010-3579
END:VEVENT

END:VCALENDAR
